BEGIN:VCALENDAR
VERSION:2.0
PRODID:-//wp-events-plugin.com//6.6.1//EN
TZID:Europe/Berlin
X-WR-TIMEZONE:Europe/Berlin
BEGIN:VEVENT
UID:68@its-owl.de
DTSTART;TZID=Europe/Berlin:20241009T090000
DTEND;TZID=Europe/Berlin:20241009T120000
DTSTAMP:20240902T130155Z
URL:https://its-owl.de/news-events/events/anwendungsfelder-und-potenziale-
 von-5g-kmu/
SUMMARY:Anwendungsfelder und Potenziale von 5G für KMU
DESCRIPTION:\n\nErwerben Sie Wissen über mögliche Einsätze von 5G in Unt
 ernehmen und lernen Sie 5G-Technologien in ihrer realen Anwendung kennen. 
 Das Seminar wird im Rahmen des Projektes '5G-Lernorte OWL' angeboten.\n\n\
 nIm Projekt '5G-Lernorte OWL' werden die Vorzüge und Grenzen der 5G-Techn
 ologie für die berufliche Bildung erforscht und konkrete Lernszenarien f
 ür gewerblich-technische und kaufmännische Ausbildungen entwickelt und e
 rprobt. Darüber hinaus werden u.a. Qualifizierungsmaßnahmen für Lehrkr
 äfte und Ausbilder:innen oder KMU erarbeitet. Das Projekt\, das bis Ende 
 2024 läuft\, wird vom Ministerium für Wirtschaft\, Industrie\, Klimaschu
 tz und Energie des Landes Nordrhein-Westfalen gefördert.\n\nZur Anmeldung
  und bei Fragen zum Seminar kontaktieren Sie bitte Kornelia Schuba.
ATTACH;FMTTYPE=image/jpeg:https://its-owl.de/wp-content/uploads/2024/09/cs
 m_2022-11-22_key_visual_5g_lernorte_owl_76925ba214-scaled.jpg
CATEGORIES:Veranstaltung vor Ort
LOCATION:SmartFactoryOWL\, Campusallee 3 \, Lemgo\, 32657 \, Deutschland
X-APPLE-STRUCTURED-LOCATION;VALUE=URI;X-ADDRESS=Campusallee 3 \, Lemgo\, 32
 657 \, Deutschland;X-APPLE-RADIUS=100;X-TITLE=SmartFactoryOWL:geo:0,0
END:VEVENT
BEGIN:VTIMEZONE
TZID:Europe/Berlin
X-LIC-LOCATION:Europe/Berlin
BEGIN:DAYLIGHT
DTSTART:20240331T030000
TZOFFSETFROM:+0100
TZOFFSETTO:+0200
TZNAME:CEST
END:DAYLIGHT
END:VTIMEZONE
END:VCALENDAR