BEGIN:VCALENDAR
VERSION:2.0
PRODID:-//wp-events-plugin.com//6.6.1//EN
TZID:Europe/Berlin
X-WR-TIMEZONE:Europe/Berlin
BEGIN:VEVENT
UID:60@its-owl.de
DTSTART;TZID=Europe/Berlin:20240911T090000
DTEND;TZID=Europe/Berlin:20240911T150000
DTSTAMP:20240809T113412Z
URL:https://its-owl.de/news-events/events/energiedatenmanagement-effizient
 -digital-machbar/
SUMMARY:Energiedatenmanagement: effizient\, digital\, machbar?
DESCRIPTION:\n\nErhalten Sie einen Einblick in die aktuellen Entwicklungen 
 in der Digitalisierung von Industrieprozessen: Das Kompetenzzentrum für E
 nergieeffizienz durch Digitalisierung (KEDi) lädt zur Industrie-Roadshow 
 mit dem Themenschwerpunkt: 'Effizienzpotenziale in thermodynamischen Indus
 trieprozessen' nach Oberhausen ein. Nutzen Sie die Gelegenheit\, von Expe
 rt:innen aus Wissenschaft und Praxis zu lernen und sich auszutauschen.\n\n
 \nIn Kooperation mit der Oberhausener Wirtschafts- und Tourismusförderung
  GmbH wird auf der Veranstaltung mit den Teilnehmenden über die Herausfor
 derungen\, aber vor allem über die Potenziale von Energiedatenmanagements
 ystemen diskutiert.\n\nOptional besteht die Möglichkeit\, nach dem Mittag
 essen von ca. 13:30 Uhr bis 17 Uhr an einer Unternehmensexkursion teilzune
 hmen. Als Exkursionsziele stehen die Werke von thyssenkrupp Steel Europe 
 und ArcelorMittal\, beide im nur wenige Fahrminuten entfernten Duisburg g
 elegen\, zur Auswahl. Der Transfer zum Exkursionsziel mit einem Bus wird v
 on uns organisiert. Da die Teilnahmekapazitäten begrenzt sind\, ist eine 
 Anmeldung zur Exkursion im Anmeldeformular unbedingt notwendig.\n\nJetzt a
 nmelden
ATTACH;FMTTYPE=image/jpeg:https://its-owl.de/wp-content/uploads/2024/08/ke
 di_veranstaltung-1.jpg
CATEGORIES:Veranstaltung vor Ort
LOCATION:LVR-Industriemuseum Zinkfabrik Altenberg\, Hansastraße 20\,  Ober
 hausen\, 46049\, Deutschland
X-APPLE-STRUCTURED-LOCATION;VALUE=URI;X-ADDRESS=Hansastraße 20\,  Oberhaus
 en\, 46049\, Deutschland;X-APPLE-RADIUS=100;X-TITLE=LVR-Industriemuseum Zi
 nkfabrik Altenberg:geo:0,0
END:VEVENT
BEGIN:VTIMEZONE
TZID:Europe/Berlin
X-LIC-LOCATION:Europe/Berlin
BEGIN:DAYLIGHT
DTSTART:20240331T030000
TZOFFSETFROM:+0100
TZOFFSETTO:+0200
TZNAME:CEST
END:DAYLIGHT
END:VTIMEZONE
END:VCALENDAR