BEGIN:VCALENDAR
VERSION:2.0
PRODID:-//wp-events-plugin.com//6.6.1//EN
TZID:Europe/Berlin
X-WR-TIMEZONE:Europe/Berlin
BEGIN:VEVENT
UID:82@its-owl.de
DTSTART;TZID=Europe/Berlin:20241202T093000
DTEND;TZID=Europe/Berlin:20241202T160000
DTSTAMP:20241023T111517Z
URL:https://its-owl.de/news-events/events/green-owl-barcamp/
SUMMARY:Green.OWL Barcamp: Gemeinsam anpacken für die Transformation
DESCRIPTION:\n\nKreislaufwirtschaft\, Energiesicherheit\, Ressourceneffizie
 nz\, Klimaschutz: Die Nachhaltigkeitstransformation der Wirtschaft ist ein
 e wichtige Grundlage für die Zukunft der Region Ostwestfalen-Lippe – un
 d gleichzeitig eine große Herausforderung für heimische Unternehmen\, Ho
 chschulen und Kommunen. Ostwestfalen-Lippe stellt die Zeichen auf Aufbruch
  und packt die Transformation des Wirtschafts- und Wissenschaftsstandorts 
 an. Mit dem Green.OWL BarCamp bringen die Bertelsmann Stiftung und die Ost
 WestfalenLippe GmbH die engagierten und innovativen Köpfe aus der Region 
 zusammen\, um Erfahrungen auszutauschen\, Ideen zu diskutieren und Akteure
  zu vernetzen. Seien Sie dabei\, setzen Sie Ihre Schwerpunkte und suchen S
 ie mit uns Ansätze – es gibt viel zu tun.\n\n\nJetzt anmelden\n\nBesond
 ers interessant ist das Green.OWL BarCamp für kleine und mittelständisch
 e Unternehmen\, Netzwerke\, Hochschulen\, wirtschaftsnahe Organisationen u
 nd Kommunen in OWL\, die sich für die Themen der Nachhaltigkeitstransform
 ation interessieren\, die ihre Fragen und Erfahrungen einbringen möchten 
 und die für Kooperationen offen sind.
ATTACH;FMTTYPE=image/jpeg:https://its-owl.de/wp-content/uploads/2024/10/20
 240125_NRWInnovativ_Summit-13-scaled.jpg
CATEGORIES:Veranstaltung vor Ort
LOCATION:Bertelsmann Stiftung\, Carl-Bertelsmann-Str. 256\,  Gütersloh\, 3
 3332\, Deutschland
X-APPLE-STRUCTURED-LOCATION;VALUE=URI;X-ADDRESS=Carl-Bertelsmann-Str. 256\,
   Gütersloh\, 33332\, Deutschland;X-APPLE-RADIUS=100;X-TITLE=Bertelsmann 
 Stiftung:geo:0,0
END:VEVENT
BEGIN:VTIMEZONE
TZID:Europe/Berlin
X-LIC-LOCATION:Europe/Berlin
BEGIN:STANDARD
DTSTART:20241027T020000
TZOFFSETFROM:+0200
TZOFFSETTO:+0100
TZNAME:CET
END:STANDARD
END:VTIMEZONE
END:VCALENDAR