BEGIN:VCALENDAR
VERSION:2.0
PRODID:-//wp-events-plugin.com//6.6.1//EN
TZID:Europe/Berlin
X-WR-TIMEZONE:Europe/Berlin
BEGIN:VEVENT
UID:146@its-owl.de
DTSTART;TZID=Europe/Berlin:20251114T090000
DTEND;TZID=Europe/Berlin:20251114T133000
DTSTAMP:20251113T135906Z
URL:https://its-owl.de/news-events/events/its-owl-transfertag-wettbewerbsf
 aehigkeit-im-mittelstand-staerken-intelligente-technische-systeme-als-erfo
 lgsfaktor/
SUMMARY:it's OWL Transfertag - Wettbewerbsfähigkeit im Mittelstand stärke
 n: Intelligente Technische Systeme als Erfolgsfaktor
DESCRIPTION:\n\nWie bleiben Unternehmen im Mittelstand auch morgen erfolgre
 ich? Welche Technologien bringen echte Wettbewerbsvorteile – und wie las
 sen sie sich heute schon nutzen? Freuen Sie sich auf Impulse zu den wichti
 gsten Technologietrends\, spannende Einblicke in aktuelle Best Practices u
 nd die Gelegenheit\, mit Expert:innen ins Gespräch zu kommen. Ob nachhalt
 ige Produktion\, digitale Arbeitswelten\, Engineering Automation oder inte
 lligente Systeme für mehr Effizienz – hier erleben Sie\, wie Innovation
  in der Praxis funktioniert.\n\n\nNutzen Sie den Tag\, um neue Impulse fü
 r Ihr Unternehmen mitzunehmen\, Kontakte zu knüpfen und gemeinsam mit and
 eren die Zukunftsfähigkeit des Mittelstands zu stärken.\nDas Programm\n\
 n\n\n09:00 - 09:30 Uhr\nEmpfang\n\n\n09:30 - 10:15 Uhr\nBegrüßung\nIna L
 aukötter\, Landrätin Kreis GüterslohIntelligente Technische Systeme: F
 ür Innovation\, Resilienz und Nachhaltigkeit im Mittelstand\nProf. Dr. Ro
 man Dumitrescu\, Geschäftsführer it's OWL Clustermanagement und Direktor
  Fraunhofer IEM\n\nPaneldiskussion: Herausforderungen des Mittelstands und
  passgenaue Angebote für Unternehmen: Wo stehen wir &amp\; was brauchen w
 ir?\nIna Laukötter\, Landrätin Kreis Gütersloh\, Anna Niehaus\, Geschä
 ftsführerin Pro Wirtschaft GT\nModeration: Wolfgang Marquardt\, it's OWL 
 Clustermanagement\n\n\n10:15 - 11:15 Uhr\nDeep Dives I: Besuchen Sie einen
  von vier interaktiven Workshops\n\n 	ITS für Engineering Automation (Tom
 my Falkowski\, it's OWL und Dr. Joschka Kersting\, IOSB-INA) | Sitzungsrau
 m 1\nErfahren Sie in Live-Demos und interaktiven Übungen\, wie KI-Assiste
 nzsysteme das Engineering revolutionieren\, Entwicklungsprozesse beschleun
 igen und neue Formen der Zusammenarbeit zwischen Mensch und Maschine ermö
 glichen.\n 	ITS für nachhaltige Produktentwicklung (Anja Rasor\, Heinz Ni
 xdorf Institut) | Sitzungsraum 2\nEntdecken Sie\, wie datengetriebene Prod
 uktentwicklung und Künstliche Intelligenz den Weg zu nachhaltigen Wertsch
 öpfungsketten ebnen – und diskutieren Sie mit anderen Unternehmen praxi
 snahe Lösungen für eine ressourcenschonende Zukunft.\n 	ITS für die Pro
 duktion (Stefan Hartmann\, Fraunhofer IEM) | Sitzungsraum 3\nErarbeiten Si
 e anhand konkreter Beispiele\, wie Ihr Unternehmen Schritt für Schritt vo
 m Datensammeln zur KI-Anwendung in der Produktion gelangt – und entwicke
 ln Sie eigene Use-Case-Ideen für mehr Effizienz und Wertschöpfung.\n 	 
 ITS für die Arbeitswelt (Kerstin Eller\, it's OWL Clustermanagement\, Ver
 ena Dondorf\, Fraunhofer IEM) | Sitzungsraum 4\nErleben Sie\, wie humanzen
 trierte KI Arbeitsprozesse unterstützen kann\, reflektieren Sie Chancen u
 nd Risiken und nehmen Sie konkrete Ansätze mit\, um KI in Ihrem Unternehm
 en fair\, sicher und sinnvoll einzusetzen\n\n\n\n\n11:15 - 11:45 Uhr\nKurz
 e Pause\n\n\n11:45 - 12:30 Uhr\nProjektsessions: In vier parallelen Sessio
 ns zeigen wir Best Practice Beispiele und Unterstützungsangebote aus unse
 ren Projekten.\n\n 	KI für die Zukunft der Industrie (KI Akademie OWL) | 
 Sitzungsraum 1\nErleben Sie\, wie moderne KI-Verfahren aus der Forschung i
 n konkrete Anwendungen überführt werden – und entdecken Sie\, welche T
 echnologien Ihrem Unternehmen echten Mehrwert bringen.\n 	Biobasierte Werk
 stoffe (Anna Niehaus\, Axel Wizemann und Katharina Lippert\, Pro Wirtschaf
 t GT) | Sitzungsraum 2\nEntdecken Sie die Potenziale biobasierter Material
 ien für nachhaltige Wertschöpfung und bringen Sie Ihre Perspektiven in d
 en Aufbau eines regionalen Innovationsclusters ein.\n 	Green.KMU – Unter
 nehmensmodell und Best Practice für die Nachhaltigkeitstransformation (Fr
 iedrike Dohmann\, Fraunhofer IEM\, Caroline Wilke\, OWL GmbH) | Sitzungsra
 um 3\nErfahren Sie\, wie Sie mit praxiserprobten Modellen\, Werkzeugen und
  Schulungen die Transformation Ihres Unternehmens erfolgreich gestalten un
 d langfristig wettbewerbsfähig bleiben.\n 	Next Learning Hub OWL – Qual
 ifizierung für neue Technologien (Jessica Wulf\, Fraunhofer IEM) | Sitzun
 gsraum 4\nErfahren Sie\, wie der Next Learning Hub OWL Wissen zu Zukunftst
 echnologien in die Praxis bringt – und gestalten Sie mit\, wie Weiterbil
 dung in der Industrie von morgen aussieht.\n\n\n\n\n12:30 - 13:30 Uhr\nDee
 p Dives II\nDie Teilnehmenden haben die Möglichkeiten einen weiteren der 
 vier interaktiven Workshop zu besuchen\n\n\n13:30 Uhr\nAusklang &amp\; Imb
 iss\n\n\n
ATTACH;FMTTYPE=image/jpeg:https://its-owl.de/wp-content/uploads/2025/08/20
 240927_Transfertag-03.jpg
CATEGORIES:Veranstaltung vor Ort
LOCATION:Kreishaus Gütersloh\, Herzebrocker Str. 140\, Gütersloh\, 33334 
 \, Deutschland
X-APPLE-STRUCTURED-LOCATION;VALUE=URI;X-ADDRESS=Herzebrocker Str. 140\, Gü
 tersloh\, 33334 \, Deutschland;X-APPLE-RADIUS=100;X-TITLE=Kreishaus Güter
 sloh:geo:0,0
END:VEVENT
BEGIN:VTIMEZONE
TZID:Europe/Berlin
X-LIC-LOCATION:Europe/Berlin
BEGIN:STANDARD
DTSTART:20251026T020000
TZOFFSETFROM:+0200
TZOFFSETTO:+0100
TZNAME:CET
END:STANDARD
END:VTIMEZONE
END:VCALENDAR