BEGIN:VCALENDAR
VERSION:2.0
PRODID:-//wp-events-plugin.com//6.6.1//EN
TZID:Europe/Berlin
X-WR-TIMEZONE:Europe/Berlin
BEGIN:VEVENT
UID:85@its-owl.de
DTSTART;TZID=Europe/Berlin:20250129T083000
DTEND;TZID=Europe/Berlin:20250129T110000
DTSTAMP:20241206T152602Z
URL:https://its-owl.de/news-events/events/ki-reise-ki-wissens-update-fuer-
 geschaeftsfuehrende-und-fuehrungskraefte/
SUMMARY:KI-Reise: KI-Wis­sens-Update für Ge­schäfts­füh­rende und F
 üh­rungs­kräf­te
DESCRIPTION:\n\nZum Auftakt der KI-Reise lädt die FHDW zum KI-Frühstüc
 k ein. Das KI-Frühstück bietet Geschäftsführern\, Führungskräften un
 d Entscheidern in kleinen und mittelständischen Unternehmen (KMUs) aus Os
 twestfalen einen kompakten Überblick über unternehmensrelevante KI-Techn
 ologien und deren praktische Anwendungen. Die KI-Reise ist eine vierstufig
 e Veranstaltungsreihe\, die im Rahmen von Arbeitswelt.Plus stattfindet und
  kostenfreie Unterstützung anbietet.\n\n\nZur Anmeldung\n\nDas KI-Frühst
 ück setzt den Fokus auf KI-Technologien und KI-Anwendungen in KMU. Neben 
 dem Frühstück werden Ihnen zwei spannende Vorträge geboten und Sie habe
 n die Möglichkeit sich mit anderen Teilnehmer:innen und Referent:innen in
  inspirierender Atmosphäre auszutauschen.\nKI als rechtliche Blackbox\nIn
 formieren Sie sich über rechtliche und regulatorische Anforderungen (z. B
 . Datenschutz\, AI Act\, Urheberrecht) beim Einsatz von KI in Ihrem Untern
 ehmen. Im Vortrag von Dr. Daniel Wittig\, BRANDI Rechtsanwälte mbB\, zu
  „KI als rechtliche Blackbox“ hören Sie\, welche datenschutzrechtlich
 e Anforderungen bei der Einführung und Anwendung von KI zu berücksichtig
 en sind.\nWer nur an Use Cases denkt\, denkt nicht weit genug\nDie Referen
 ten aus regionalen Unternehmen geben Ihnen wertvolle Impulse und stellen L
 ösungsansätze für die Implementierung von KI in Ihrem Unternehmen vor. 
 Lernen Sie aus dem Vortrag von Thomas Bischoff\, Phoenix Contact GmbH &a
 mp\; Co. KG „Wer nur an Use Cases denkt\, denkt nicht weit genug“\, w
 as es zu beachten gilt und was man berücksichtigen sollte\, damit die Nut
 zung von KI sicher erfolgen kann.\n\nSie erhalten wertvolle Einblicke in K
 I-Trends\, rechtliche Herausforderungen und innovative Use Cases aus ostwe
 stfälischen KMUs. Am Beispiel von Transferprojekten stellen wir vor\, wie
  Sie relevante Use Cases identifizieren und passgenaue KI-Tools einsetzen.
ATTACH;FMTTYPE=image/jpeg:https://its-owl.de/wp-content/uploads/2024/10/20
 241009_itsShowtime-47-scaled.jpg
CATEGORIES:Veranstaltung vor Ort
LOCATION:Fachhochschule der Wirtschaft (FHDW)\, Fürstenallee 5\, Paderborn
 \, 33102 \, Deutschland
X-APPLE-STRUCTURED-LOCATION;VALUE=URI;X-ADDRESS=Fürstenallee 5\, Paderborn
 \, 33102 \, Deutschland;X-APPLE-RADIUS=100;X-TITLE=Fachhochschule der Wirt
 schaft (FHDW):geo:0,0
END:VEVENT
BEGIN:VTIMEZONE
TZID:Europe/Berlin
X-LIC-LOCATION:Europe/Berlin
BEGIN:STANDARD
DTSTART:20241027T020000
TZOFFSETFROM:+0200
TZOFFSETTO:+0100
TZNAME:CET
END:STANDARD
END:VTIMEZONE
END:VCALENDAR