BEGIN:VCALENDAR
VERSION:2.0
PRODID:-//wp-events-plugin.com//6.6.1//EN
TZID:Europe/Berlin
X-WR-TIMEZONE:Europe/Berlin
BEGIN:VEVENT
UID:131@its-owl.de
DTSTART;TZID=Europe/Berlin;VALUE=DATE:20250921
DTEND;TZID=Europe/Berlin;VALUE=DATE:20250926
DTSTAMP:20250818T130846Z
URL:https://its-owl.de/news-events/events/united-by-ideas-driven-by-innova
 tion-international-fall-school/
SUMMARY:United by Ideas. Driven by Innovation. - International Fall School
DESCRIPTION:\n\nDu willst wissen\, wie Künstliche Intelligenz die Produkti
 on verändert? Du hast Lust\, mit internationalen Studierenden und Young P
 rofessionals spannende Unternehmen kennenzulernen – und dabei deine eige
 nen Perspektiven zu erweitern? Dann ist die International Fall School von 
 it's OWL und Arbeitswelt.Plus genau das Richtige für dich.\n\n\nVom 21. b
 is 25. September 2025 erwarten dich vier Tage voller Insights\, Praxis und
  Austausch in einer der innovativsten Regionen Europas: OstWestfalenLippe.
  Ob Generative AI\, Robotik\, Smart Factory oder Organisationsentwicklung 
 – wir zeigen dir\, wie Zukunftstechnologien schon heute die Arbeitswelt 
 verändern. Und du bist mittendrin.\nWas dich erwartet\n\n 	Workshops mit 
 echten Expert:innenDu diskutierst mit führenden Forschenden wie Prof. Rom
 an Dumitrescu\, Prof. Kirsten Thommes oder Prof. Volker Lohweg über KI\, 
 Automatisierung und die Organisation von morgen.\n 	Besuche bei Hidden Cha
 mpionsGEA\, CLAAS\, Miele\, Kannegiesser – du wirfst einen Blick hinter 
 die Kulissen starker Industrieunternehmen und erlebst\, wie digitale Innov
 ationen konkret umgesetzt werden.\n 	Interkultureller Austausch &amp\; Net
 workingDu triffst internationale Teilnehmende aus Technik\, Wirtschaft und
  IT – und knüpfst Kontakte\, die bleiben.\n 	Start-up-Vibes &amp\; Fors
 chung hautnahOb Zukunftsmeile 2 oder CITEC: Du lernst Orte kennen\, an den
 en neue Ideen entstehen – und vielleicht dein nächstes Projekt?\n 	Kost
 enlose Unterkunft inklusiveAlle Teilnehmenden wohnen gemeinsam in einem Ho
 tel in Paderborn – die Kosten für Übernachtung und Transfers übernimm
 t der Veranstalter.\n\nAn wen richtet sich die Fall School?\nDu bist Maste
 rstudent:in\, Promovierende:r oder Berufseinsteiger:in im Bereich Maschine
 nbau\, Elektrotechnik\, Mechatronik\, Informatik\, Wirtschaft\, Data Scien
 ce oder Organisationsentwicklung? Du sprichst gutes Englisch und hast Lust
 \, Zukunft aktiv mitzugestalten?\n\nDann bist du bei uns richtig.\nSo bewi
 rbst du dich\nDie Teilnahme ist kostenlos – aber die Plätze sind begren
 zt. Wenn du dabei sein willst\, bewirb dich jetzt über unser Online-Formu
 lar. Wir freuen uns auf deine Bewerbung!\nDas Wichtigste auf einen Blick\n
 📅 21.–25. September 2025📍 OstWestfalenLippe – mit Stationen in B
 ielefeld\, Lemgo\, Oelde\, Harsewinkel\, Paderborn\, Gütersloh\, Vlotho\n
 🏨 Unterkunft in Paderborn inklusive🎓 Veranstalter: Arbeitswelt.Plus 
 und it's OWL\n\nHier erfährst du mehr zum Programm\n\nLet’s shape the f
 uture of work – together!\n\n\nNo-Show-Gebühr\n\nDie Teilnahme an der V
 eranstaltung ist kostenfrei. Wir bitten um Verständnis\, dass wir bei ein
 er kurzfristigen Absage oder Nichterscheinen eine No-Show-Gebühr in Höhe
  von 200\,00 € erheben müssen\, um die entstehenden Kosten (z. B. für 
 Hotel\, Catering\, Materialien) zu decken. Eine kostenfreie Stornierung is
 t bis spätestens 31. August 2025 möglich. Die Stornierung muss schriftli
 ch per E-Mail an s.lessmann@its-owl.de erfolgen. Bei einer späteren Absag
 e oder Nichterscheinen wird die No-Show-Gebühr in Rechnung gestellt. Mit 
 der Anmeldung zur Veranstaltung erkennen die Teilnehmenden diese Bedingung
 en an.\n\n
ATTACH;FMTTYPE=image/jpeg:https://its-owl.de/wp-content/uploads/2025/05/sh
 utterstock_2237853093.jpg
CATEGORIES:Veranstaltung vor Ort
END:VEVENT
BEGIN:VTIMEZONE
TZID:Europe/Berlin
X-LIC-LOCATION:Europe/Berlin
BEGIN:DAYLIGHT
DTSTART:20250330T030000
TZOFFSETFROM:+0100
TZOFFSETTO:+0200
TZNAME:CEST
END:DAYLIGHT
END:VTIMEZONE
END:VCALENDAR